BEGIN:VCALENDAR
VERSION:2.0
PRODID:-//CityCenter Wieselburg - ECPv6.15.20//NONSGML v1.0//EN
CALSCALE:GREGORIAN
METHOD:PUBLISH
X-WR-CALNAME:CityCenter Wieselburg
X-ORIGINAL-URL:https://www.citycenter-wieselburg.at
X-WR-CALDESC:Veranstaltungen für CityCenter Wieselburg
REFRESH-INTERVAL;VALUE=DURATION:PT1H
X-Robots-Tag:noindex
X-PUBLISHED-TTL:PT1H
BEGIN:VTIMEZONE
TZID:UTC
BEGIN:STANDARD
TZOFFSETFROM:+0000
TZOFFSETTO:+0000
TZNAME:UTC
DTSTART:20170101T000000
END:STANDARD
END:VTIMEZONE
BEGIN:VEVENT
DTSTART;TZID=UTC:20180122T080000
DTEND;TZID=UTC:20180122T170000
DTSTAMP:20260421T233443
CREATED:20180122T091934Z
LAST-MODIFIED:20180122T091934Z
UID:10223-1516608000-1516640400@www.citycenter-wieselburg.at
SUMMARY:Winter Sale
DESCRIPTION:Winter Sale im City Center Wieselburg\n31. Jänner bis 3. Februar\nDie lässigsten Angebote zum Winter Sale im City Center Wieselburg\n \n 
URL:https://www.citycenter-wieselburg.at/event/winter-sale/
CATEGORIES:Aktionstage,Mode
END:VEVENT
END:VCALENDAR