BEGIN:VCALENDAR
VERSION:2.0
PRODID:-//CityCenter Wieselburg - ECPv6.15.20//NONSGML v1.0//EN
CALSCALE:GREGORIAN
METHOD:PUBLISH
X-ORIGINAL-URL:https://www.citycenter-wieselburg.at
X-WR-CALDESC:Veranstaltungen für CityCenter Wieselburg
REFRESH-INTERVAL;VALUE=DURATION:PT1H
X-Robots-Tag:noindex
X-PUBLISHED-TTL:PT1H
BEGIN:VTIMEZONE
TZID:UTC
BEGIN:STANDARD
TZOFFSETFROM:+0000
TZOFFSETTO:+0000
TZNAME:UTC
DTSTART:20170101T000000
END:STANDARD
END:VTIMEZONE
BEGIN:VEVENT
DTSTART;TZID=UTC:20181012T090000
DTEND;TZID=UTC:20181013T170000
DTSTAMP:20260421T205446
CREATED:20181001T104248Z
LAST-MODIFIED:20181001T104357Z
UID:10448-1539334800-1539450000@www.citycenter-wieselburg.at
SUMMARY:Genuss - Herbst am 12. & 13. Oktober
DESCRIPTION:GENUSSHERBST AM 12. und 13. Oktober\nVerkostungen\, Aktionen\, Glücksrad\, Gewinnspiel sowie Musik\, Talk & Kinderprogramm:\nSo gestaltet sich der Genuss – Herbst im City Center Wieselburg!\nStargast: Bianca Wohlgemuth von der TV – Show „Das große Backen!“\nBackworkshops mit Villa N9\, Backpräsentationen & Autogrammstunden\n \n  \n  \n 
URL:https://www.citycenter-wieselburg.at/event/genuss-herbst-am-12-13-oktober/
LOCATION:CityCenter Wieselburg\, Wiener Straße 3\, Wieselburg\, Niederösterreich\, 3250\, Österreich
CATEGORIES:Aktionstage,Kulinarik
ORGANIZER;CN="CityCenter Wieselburg":MAILTO:office@citycenterwieselburg.at
END:VEVENT
END:VCALENDAR