BEGIN:VCALENDAR
VERSION:2.0
PRODID:-//CityCenter Wieselburg - ECPv6.15.20//NONSGML v1.0//EN
CALSCALE:GREGORIAN
METHOD:PUBLISH
X-ORIGINAL-URL:https://www.citycenter-wieselburg.at
X-WR-CALDESC:Veranstaltungen für CityCenter Wieselburg
REFRESH-INTERVAL;VALUE=DURATION:PT1H
X-Robots-Tag:noindex
X-PUBLISHED-TTL:PT1H
BEGIN:VTIMEZONE
TZID:UTC
BEGIN:STANDARD
TZOFFSETFROM:+0000
TZOFFSETTO:+0000
TZNAME:UTC
DTSTART:20170101T000000
END:STANDARD
END:VTIMEZONE
BEGIN:VEVENT
DTSTART;TZID=UTC:20180525T090000
DTEND;TZID=UTC:20180526T180000
DTSTAMP:20260422T032811
CREATED:20180516T143408Z
LAST-MODIFIED:20180516T143408Z
UID:10344-1527238800-1527357600@www.citycenter-wieselburg.at
SUMMARY:Jubiläum 15 Jahre City Center Wieselburg
DESCRIPTION:Jubiläum 15 Jahre City Center Wieselburg\nFeiern Sie mit!\nMachen Sie mit beim großen Jubiläums – Gewinnspiel\n 
URL:https://www.citycenter-wieselburg.at/event/15-jahre-city-center-wieselburg/
CATEGORIES:Aktionstage,Kulinarik,Unterhaltung
ORGANIZER;CN="CityCenter Wieselburg":MAILTO:office@citycenterwieselburg.at
END:VEVENT
END:VCALENDAR